BEGIN:VCALENDAR
VERSION:2.0
PRODID:Imitheme.com 
BEGIN:VEVENT
UID:20260421T084504704378423
DTSTAMP;TZID=UTC:2026-04-21 08:45:04
DTSTART;TZID=America/Los_Angeles:20260421T084504
DTEND;TZID=America/Los_Angeles:20260421T084504
SUMMARY:Scholarship Award
LOCATION:
DESCRIPTION:
URL:https://dnscscholarship.com/eventer/scholarship-award/
END:VEVENT
END:VCALENDAR
